BEGIN:VCALENDAR
VERSION:2.0
PRODID:-//renew.org - ECPv6.15.20//NONSGML v1.0//EN
CALSCALE:GREGORIAN
METHOD:PUBLISH
X-WR-CALNAME:renew.org
X-ORIGINAL-URL:https://renew.org
X-WR-CALDESC:Events for renew.org
REFRESH-INTERVAL;VALUE=DURATION:PT1H
X-Robots-Tag:noindex
X-PUBLISHED-TTL:PT1H
BEGIN:VTIMEZONE
TZID:America/Chicago
BEGIN:DAYLIGHT
TZOFFSETFROM:-0600
TZOFFSETTO:-0500
TZNAME:CDT
DTSTART:20250309T080000
END:DAYLIGHT
BEGIN:STANDARD
TZOFFSETFROM:-0500
TZOFFSETTO:-0600
TZNAME:CST
DTSTART:20251102T070000
END:STANDARD
BEGIN:DAYLIGHT
TZOFFSETFROM:-0600
TZOFFSETTO:-0500
TZNAME:CDT
DTSTART:20260308T080000
END:DAYLIGHT
BEGIN:STANDARD
TZOFFSETFROM:-0500
TZOFFSETTO:-0600
TZNAME:CST
DTSTART:20261101T070000
END:STANDARD
BEGIN:DAYLIGHT
TZOFFSETFROM:-0600
TZOFFSETTO:-0500
TZNAME:CDT
DTSTART:20270314T080000
END:DAYLIGHT
BEGIN:STANDARD
TZOFFSETFROM:-0500
TZOFFSETTO:-0600
TZNAME:CST
DTSTART:20271107T070000
END:STANDARD
END:VTIMEZONE
BEGIN:VEVENT
DTSTART;VALUE=DATE:20260421
DTEND;VALUE=DATE:20260423
DTSTAMP:20260421T060802
CREATED:20250805T164754Z
LAST-MODIFIED:20260410T183623Z
UID:10000003-1776729600-1776902399@renew.org
SUMMARY:2026 RENEW Gathering
DESCRIPTION:2027 RENEW.org Gathering				\n				\n					Mt. Gilead Church\, Mooresville\, IN​				\n		\n				\n					April 13th & 14th\, 2027				\n				\n				\n										\n						\n									Register Now\n					\n					\n								\n				\n				\n					\n				\n		\n					\n		\n				\n					\n\n    \n    \n        \n        \n        \n            \n            \n            \n                \n                \n                \n                    1200+\n                    ATTENDEES\n                \n                \n                \n                \n                    60+\n                    SPEAKERS\n                \n                \n                \n                \n                    20+\n                    SPONSORS\n                \n                \n            \n        \n        \n        \n        \n            \n            \n            \n                What is the RENEW.org Gathering?\n            \n            \n            \n                Welcome to the RENEW.org Gathering. This event hosted by RENEW.org\, is where disciple making leaders sharpen their vision\, strengthen their faith\, and connect with like-minded disciple makers. We host a national Gathering each year for teaching\, inspiration\, and encouragement. We are a voluntary association of church leaders who come together to help each other faithfully pursue Jesus teachings and mission. RENEW.org is a network committed to renewing the teachings of Jesus to fuel Disciple Making.\n             \n            \n            \n                Learn More\n                →\n            \n        \n        \n    \n    \n    \n    \n        \n        \n            \n            \n            \n        \n        \n        \n        \n            \n            \n                \n                \n            \n            \n            \n        \n    \n\n\n 				\n				\n					\n				\n		\n					\n		\n		\n				\n					RENEW.org Gathering				\n				\n				\n					\n	\n\n		\n		\n		\n\n		\n\n\n		\n\n\n\n	Tickets\n\n		\n	\n	\n		The numbers below include tickets for this event already in your cart. Clicking "Get Tickets" will allow you to edit any existing attendee information as well as change ticket quantities.	\n\n\n		\n\n	\n		\n				Super Super Early Bird	\n\n\n\n\n	This is a non refundable ticket. \n\n\n	\n		\n		\n				\n					$\n					89.00\n				\n						\n\n\n	\n\n\n	Unlimited\n	\n\n\n	\n\n\n	\n						\n	Decrease ticket quantity for Super Super Early Bird\n	-\n				\n\n	\n		Quantity	\n	\n\n					\n	Increase ticket quantity for Super Super Early Bird\n	+\n			\n\n	\n		\n	\n\n\n		\n\n	\n	\n	\n		Quantity:	\n	0\n\n\n	\n	\n		Total:	\n	\n		\n				\n					$\n					0.00\n				\n				\n\n\n	Get Tickets\n\n		\n				\n	\n\n\n		\n		\n	\n	\n\n	\n	\n\n	\n	\n\n\n\n			\n\n	\n\n\n				\n				\n		\n				\n					* Group rate available when you register 5+ attendees (discount updates in your cart).				\n				\n				\n		\n				\n					Grab Your Ticket and Add This Event to Your Calendar!				\n				\n				\n					\n	\n		\n\n	\n	Add to calendar	\n		\n	\n\n		\n			\n									\n	Google Calendar\n\n									\n	iCalendar\n\n									\n	Outlook 365\n\n									\n	Outlook Live\n\n							\n		\n\n		\n	\n\n				\n				\n				\n							\n			\n		\n						\n				\n				\n					\n				\n		\n					\n		\n				\n					What Attendees Say				\n				\n										\n				\n											\n									\n							\n					\n						I liked the diversity of speakers and how everything was focused on discipleship. It was good to hear from people in the trenches doing it\, not the famous people who normally speak at conferences because they can draw a crowd. It truly felt like a movement.					\n									\n						\n								Conference Attendee			\n		\n								\n											\n									\n							\n					\n						The confraternity. It didn’t feel like I was attending a commercial or time-share sales spiel. The speaker lineup was superb\, as was the thoughtfulness of the entire organization. I’m going home renewed for service.					\n									\n						\n								Conference Attendee			\n		\n								\n											\n									\n							\n					\n						Applicable to real life ministry. From the spiritual to the practical to the relational I felt like everything actually encouraged and equipped me for boots on the ground ministry. That’s not always been my experience at conferences.					\n									\n						\n								Conference Attendee			\n		\n								\n											\n									\n							\n					\n						I really enjoyed the break out sessions. I feel like the ones this year were all super solid and focused on building the fortitude of the church\, which is the best remedy for protecting the church and building her up for the next generation.					\n									\n						\n								Conference Attendee			\n		\n								\n											\n									\n							\n					\n						Great work emphasizing the next generation and discipleship. And having so many young people present was perfect. Also\, the direct engagement with the LGBTQ+ issue was really good.					\n									\n						\n								Conference Attendee
URL:https://renew.org/event/2026-renew-gathering/
LOCATION:Southeast Christian Church Indiana Campus\, 1309 Charlestown New Albany Rd\, Jeffersonville\, IN\, 47130\, United States
ATTACH;FMTTYPE=image/jpeg:https://renew.org/wp-content/uploads/2025/08/RENEW-G-21-22.jpg
END:VEVENT
END:VCALENDAR